BEGIN:VCALENDAR
VERSION:2.0
PRODID:-//Dunaújváros mesél - ECPv4.6.25//NONSGML v1.0//EN
CALSCALE:GREGORIAN
METHOD:PUBLISH
X-WR-CALNAME:Dunaújváros mesél
X-ORIGINAL-URL:https://dunaujvarosmesel.hu
X-WR-CALDESC:Events for Dunaújváros mesél
BEGIN:VEVENT
DTSTART;TZID=Europe/Budapest:20260314T140000
DTEND;TZID=Europe/Budapest:20260314T180000
DTSTAMP:20260422T102348
CREATED:20260307T182300Z
LAST-MODIFIED:20260307T182300Z
UID:72737-1773496800-1773511200@dunaujvarosmesel.hu
SUMMARY:SZEVASZ TAVASZ - kézműves foglalkozás
DESCRIPTION:Tavaszköszöntő kézműves foglalkozásra invitáljuk az érdeklődőket március 14-én és 21-én szombaton a Lajos király körút 8. szám alatt található Dunaújváros Ponton. \nSZÍNEZZ\, VÁGJ\, RAGASSZ\, ALKOSS! \nmárc 7\, 2026\n
URL:https://dunaujvarosmesel.hu/programok/szevasz-tavasz-kezmuves-foglalkozas/
LOCATION:Dunaújváros Mesél\, Lajos király körút 8.\, Dunaújváros\, Fejér\, 2400\, Magyarország
CATEGORIES:Dunaújváros Mesél
ATTACH;FMTTYPE=image/jpeg:https://dunaujvarosmesel.hu/wp-content/uploads/2026/03/szevasztavasz03.jpg
END:VEVENT
END:VCALENDAR