BEGIN:VCALENDAR
VERSION:2.0
PRODID:-//Dunaújváros mesél - ECPv4.6.25//NONSGML v1.0//EN
CALSCALE:GREGORIAN
METHOD:PUBLISH
X-WR-CALNAME:Dunaújváros mesél
X-ORIGINAL-URL:https://dunaujvarosmesel.hu
X-WR-CALDESC:Events for Dunaújváros mesél
BEGIN:VEVENT
DTSTART;TZID=Europe/Budapest:20260430T200000
DTEND;TZID=Europe/Budapest:20260430T213000
DTSTAMP:20260419T124643
CREATED:20260412T082843Z
LAST-MODIFIED:20260412T083144Z
UID:73286-1777579200-1777584600@dunaujvarosmesel.hu
SUMMARY:Elemlámpás/fáklyás Muki túra
DESCRIPTION:2026-ban is rendhagyó\, elemlámpás/fáklyás Muki túrára invitálom az érdeklődőket a Sugárúti fesztivál előestéjén\, április 30-án 8 órától!\nKicsiknek és nagyoknak is egyaránt érdekes sétán a belvárosból\, a szebb napokat megélt úttörővasút első mozdonyától\, Mukitól indulva végigjárjuk az egykori pályaszakasz még járható szakaszát\, egészen a végállomásig\, a Ságvári kilátóig. \nElemlámpát ha tudtok hozzatok\, fáklyák korlátozott számban idén is lesznek. \nJavasolt a laza\, de szúnyogoktól is védő hosszú szárú öltözék\, és túracipő\, vagy bakancs. \nTalálkozzunk április 30-án a Mukinál!\n“Beszállás”\, indulás: 8 óra meg egy kicsi\, igyekszünk a kicsit későket is megvárni! 🙂\n 10 állomásos MUKI TANÖSVÉNY \n \n \nA megrendezésre kerülő MUKI túrán mindenki saját felelősségére vehet részt. Felhívnám a résztvevők figyelmét pár fontos dologra. \n\nA túra a Muki vonattól a Vidám Park mögötti erdős területen az erdei ösvényen keresztül halad át\, egészen az egykori Ságvári kilátóig. A teljes útvonal Mukitól Mukiig oda-vissza kb 5 km.\nA vezetett túra útvonala két részből áll:\na.: járdán\, Mukitól a Dunaújvárosi Sportcsarnokig\, megfelelően kivilágított útvonalon\, /KRESZ szabályokat betartva\, zebrán közlekedve\nb.: erdőben\, a kitaposott ösvényen\, sötétben\, lámpa\, vagy fáklyafényben\nJavasolt öltözet: kényelmes\, szabadidős ruházat\, estére való tekintettel inkább még javasolt a pulcsi.\nA kiosztott fáklyákat elsősorban a gyerekeknek osztogatnánk\, ezért ha valakinek esetleg van otthon elemlámpája\, vagy fejlámpája\, ne hagyja otthon\, illetve a felnőtt kísérőket kérném\, hogy az erdőben óvatosan\, kellő figyelemmel közlekedjünk a fáklyákkal!\nAz erdőben óvatosan közlekedjünk\, nézzünk a lábunk elé\, esetleges gyökérgumókban\, lehullott ágakban ne essünk el. Egyetlen kidőlt fatörzset kell a túra során átlépni\, további akadályokat\, belógó ágakat az elmúlt napokban/hetekben igyekeztünk eltakarítani.\nAz egykori kilátónál ideiglenesen kihelyeztem egy jelképes kötélkorlátot\, ezt kérném ne lépjük át\, ne bújjunk át alatta elkerülve ezzel az esetleges baleseteket\, jó lenne ha annyian jönnénk ki az erdőből\, ahányan bementünk.\nAz erdei ösvényen oda-vissza ugyanazt az útvonalat tesszük meg\, ezérrt sok helyen egymás mellett haladunk majd\, kérném vigyázzunk egymás épségére\, biztonságára. Letérni az ösvényről nem javasolt!\nA vezetett túra az erdőből kiérve a Dunaújvárosi Sportcsarnoknál véget ér\, miután az utolsó résztvevő is elhagyja az erdőt\, a kihelyezett kellékeket még össze kell szedni\, illetve aki nem szeretné hazavinni a fáklyát\, ott helyben azt is össze tudom szedni.\n\nRendhagyó módon idén a várható nagy létszám miatt a túra vezetése egy más\, új formában fog megvalósulni\, erről a túra kezdete előtt kaphatnak tájékoztatást a jelenlévők\, a következő hetekben pedig egy napfényes MUKI túra is várható\, aki szeretne nem csak sötétben sétálni az erdőben\, várjuk sok szeretettel a soron következő ilyen alkalmon. \n Elemlámpás/fáklyás Muki túra \nMég egy felhívást szeretnék közzétenni: aki szeretne részt venni a túra útvonalának fenntartási munkálataiban\, esetleges bővítési\, fejlesztési folyamatában\, sok szeretettel várom jelentkezését az info@dunaujvarosmesel.hu email címen. \nTovábbi információk személyesen a túra alatt\, előtte\, vagy utána\, vagy a +365935448-as telefonszámon. \nKöszönettel:\nHorváth Tamás – túravezető \nápr 12\, 2026\n
URL:https://dunaujvarosmesel.hu/programok/elemlampas-faklyas-muki-tura/
LOCATION:Muki vonat\, Vasmű út\, Dunaújváros\, Fejér\, 2400\, Magyarország
CATEGORIES:Dunaújváros Mesél
ATTACH;FMTTYPE=image/jpeg:https://dunaujvarosmesel.hu/wp-content/uploads/2026/04/faklyas20260430.jpg
END:VEVENT
END:VCALENDAR