BEGIN:VCALENDAR
VERSION:2.0
PRODID:-//Dunaújváros mesél - ECPv4.6.25//NONSGML v1.0//EN
CALSCALE:GREGORIAN
METHOD:PUBLISH
X-WR-CALNAME:Dunaújváros mesél
X-ORIGINAL-URL:https://dunaujvarosmesel.hu
X-WR-CALDESC:Events for Dunaújváros mesél
BEGIN:VEVENT
DTSTART;TZID=Europe/Budapest:20260418T120000
DTEND;TZID=Europe/Budapest:20260418T180000
DTSTAMP:20260419T140052
CREATED:20260413T181746Z
LAST-MODIFIED:20260413T181850Z
UID:73302-1776513600-1776535200@dunaujvarosmesel.hu
SUMMARY:DM Vásár - Pentelei Bornap
DESCRIPTION:Dunaújvárosi hűtőmágnesek\, kitűzők a 2026-os Pentelei Bornapon is! \nTalálkozzunk szombaton a Mondbach-kúriában!\nTeljes\, folyamatosan bővülő DUNAÚJVÁROS kollekció – https://dunaujvarosmesel.hu/dunaujvaros/ További információk a Pentelei Bornapról – https://dunaujvaros.hu/hir/3874  \nápr 13\, 2026\n
URL:https://dunaujvarosmesel.hu/programok/dm-vasar-pentelei-bornap/
LOCATION:Mondbach Kúria\, Magyar út 35.\, Dunaújváros\, Fejér megye\, 2400\, Magyarország
CATEGORIES:Dunaújváros Mesél
ATTACH;FMTTYPE=image/jpeg:https://dunaujvarosmesel.hu/wp-content/uploads/2026/04/vasarpiac0418.jpg
END:VEVENT
END:VCALENDAR