BEGIN:VCALENDAR
VERSION:2.0
PRODID:-//Dunaújváros mesél - ECPv4.6.25//NONSGML v1.0//EN
CALSCALE:GREGORIAN
METHOD:PUBLISH
X-WR-CALNAME:Dunaújváros mesél
X-ORIGINAL-URL:https://dunaujvarosmesel.hu
X-WR-CALDESC:Events for Dunaújváros mesél
BEGIN:VEVENT
DTSTART;TZID=Europe/Budapest:20260425T140000
DTEND;TZID=Europe/Budapest:20260425T170000
DTSTAMP:20260419T124708
CREATED:20260414T195817Z
LAST-MODIFIED:20260414T195926Z
UID:73321-1777125600-1777136400@dunaujvarosmesel.hu
SUMMARY:DM Vásár - MMK Kézműves Kincsek Vására
DESCRIPTION:Vegyed\, vigyed.. tedd ki\, viseld\, vagy használd… ajándékozd!\nDunaújváros hűtőmágnes\, kitűző\, vagy sörnyitós kulcstartó vásárlási lehetőség az MMK-ban a Kézműves Kincsek Vásárán. \nFolyamatosan bővülő teljes kollekció: https://dunaujvarosmesel.hu/dunaujvaros/ \nPersze a vásárban további kincseket is találhattok\, ezekről bővebben az esemény oldalán több információt is megtudhattok: https://www.facebook.com/events/1288506926724427/ \nápr 14\, 2026\n
URL:https://dunaujvarosmesel.hu/programok/dm-vasar-mmk-kezmuves-kincsek-vasara/
LOCATION:MMK\, Apáczai Csere János út 11.\, Dunaújváros\, 2400\, Magyarország
GEO:46.9686124;18.9354058
X-APPLE-STRUCTURED-LOCATION;VALUE=URI;X-ADDRESS=MMK Apáczai Csere János út 11. Dunaújváros 2400 Magyarország;X-APPLE-RADIUS=500;X-TITLE=Apáczai Csere János út 11.:geo:18.9354058,46.9686124
CATEGORIES:Dunaújváros Mesél
ATTACH;FMTTYPE=image/jpeg:https://dunaujvarosmesel.hu/wp-content/uploads/2026/04/vasarppiac20260425.jpg
END:VEVENT
END:VCALENDAR